BEGIN:VCALENDAR
VERSION:2.0
PRODID:-//TickeTere - ECPv6.15.14//NONSGML v1.0//EN
CALSCALE:GREGORIAN
METHOD:PUBLISH
X-WR-CALNAME:TickeTere
X-ORIGINAL-URL:https://ticketere.com
X-WR-CALDESC:Eventos para TickeTere
REFRESH-INTERVAL;VALUE=DURATION:PT1H
X-Robots-Tag:noindex
X-PUBLISHED-TTL:PT1H
BEGIN:VTIMEZONE
TZID:Europe/Madrid
BEGIN:DAYLIGHT
TZOFFSETFROM:+0100
TZOFFSETTO:+0200
TZNAME:CEST
DTSTART:20250330T010000
END:DAYLIGHT
BEGIN:STANDARD
TZOFFSETFROM:+0200
TZOFFSETTO:+0100
TZNAME:CET
DTSTART:20251026T010000
END:STANDARD
BEGIN:DAYLIGHT
TZOFFSETFROM:+0100
TZOFFSETTO:+0200
TZNAME:CEST
DTSTART:20260329T010000
END:DAYLIGHT
BEGIN:STANDARD
TZOFFSETFROM:+0200
TZOFFSETTO:+0100
TZNAME:CET
DTSTART:20261025T010000
END:STANDARD
BEGIN:DAYLIGHT
TZOFFSETFROM:+0100
TZOFFSETTO:+0200
TZNAME:CEST
DTSTART:20270328T010000
END:DAYLIGHT
BEGIN:STANDARD
TZOFFSETFROM:+0200
TZOFFSETTO:+0100
TZNAME:CET
DTSTART:20271031T010000
END:STANDARD
END:VTIMEZONE
BEGIN:VEVENT
DTSTART;TZID=Europe/Madrid:20260423T193000
DTEND;TZID=Europe/Madrid:20260423T193000
DTSTAMP:20260423T151745
CREATED:20260327T101947Z
LAST-MODIFIED:20260421T152015Z
UID:10003156-1776972600-1776972600@ticketere.com
SUMMARY:TORO ACUSTICO: VERSIONES DE LOS RODRIGUEZ\, LEIVA\, HEROES DEL SILENCIO Y MAS.
DESCRIPTION:TORO ACUSTICO: VERSIONES DE LOS RODRIGUEZ\, LEIVA\, HEROES DEL SILENCIO Y MAS en LA CASA DE LA MAR 🎸🌙 \nSERGIO TORO se sube a tocar con lo esencial: una guitarra\, su voz y canciones que conectan desde el primer acorde. México\, Argentina y Colombia se unen en un repertorio espectacular con lo mejor de Los Rodriguez\, Leiva\, Héroes del Silencio y otros grrandes del rock\, llevadas a un formato cercano\, honesto y sin artificios. \nEl concierto forma parte del ciclo AFORO 75 y se celebrará en el Hall de La Casa de la Mar\, en formato íntimo\, sin escenario tradicional\, pensado para escuchar\, sentir y cantar muy de cerca. \n🎟️ La entrada es gratuita\, con acceso libre hasta completar aforo\, tan sólo haz click en adquirir invitaciones\, ¡y finaliza la compra a coste 0!
URL:https://ticketere.com/evento/nada-fue-un-error-versiones-de-coti-juanes-y-mana-2/
LOCATION:La Casa de la Mar\, Avd. Vicente Blasco Ibañez Novelista\, 8\, Alboraya\, València\, 46120\, Spain
CATEGORIES:Conciertos
ATTACH;FMTTYPE=image/jpeg:https://ticketere.com/wp-content/uploads/2024/05/Sergio5-scaled-e1716812174866.jpg
GEO:39.4907342;-0.3271149
X-APPLE-STRUCTURED-LOCATION;VALUE=URI;X-ADDRESS=La Casa de la Mar Avd. Vicente Blasco Ibañez Novelista 8 Alboraya València 46120 Spain;X-APPLE-RADIUS=500;X-TITLE=Avd. Vicente Blasco Ibañez Novelista\, 8:geo:-0.3271149,39.4907342
END:VEVENT
END:VCALENDAR