BEGIN:VCALENDAR
VERSION:2.0
PRODID:-//TickeTere - ECPv6.15.14//NONSGML v1.0//EN
CALSCALE:GREGORIAN
METHOD:PUBLISH
X-ORIGINAL-URL:https://ticketere.com
X-WR-CALDESC:Eventos para TickeTere
REFRESH-INTERVAL;VALUE=DURATION:PT1H
X-Robots-Tag:noindex
X-PUBLISHED-TTL:PT1H
BEGIN:VTIMEZONE
TZID:Europe/Madrid
BEGIN:DAYLIGHT
TZOFFSETFROM:+0100
TZOFFSETTO:+0200
TZNAME:CEST
DTSTART:20250330T010000
END:DAYLIGHT
BEGIN:STANDARD
TZOFFSETFROM:+0200
TZOFFSETTO:+0100
TZNAME:CET
DTSTART:20251026T010000
END:STANDARD
BEGIN:DAYLIGHT
TZOFFSETFROM:+0100
TZOFFSETTO:+0200
TZNAME:CEST
DTSTART:20260329T010000
END:DAYLIGHT
BEGIN:STANDARD
TZOFFSETFROM:+0200
TZOFFSETTO:+0100
TZNAME:CET
DTSTART:20261025T010000
END:STANDARD
BEGIN:DAYLIGHT
TZOFFSETFROM:+0100
TZOFFSETTO:+0200
TZNAME:CEST
DTSTART:20270328T010000
END:DAYLIGHT
BEGIN:STANDARD
TZOFFSETFROM:+0200
TZOFFSETTO:+0100
TZNAME:CET
DTSTART:20271031T010000
END:STANDARD
END:VTIMEZONE
BEGIN:VEVENT
DTSTART;TZID=Europe/Madrid:20260607T130000
DTEND;TZID=Europe/Madrid:20260607T130000
DTSTAMP:20260424T145630
CREATED:20260415T072412Z
LAST-MODIFIED:20260415T072412Z
UID:10003208-1780837200-1780837200@ticketere.com
SUMMARY:FERRAN EXCESO + EXTREMOBAND
DESCRIPTION:FERRAN EXCESO en acústico en LA CASA DE LA MAR \nDespués de más de 15 años sobre los escenarios y una voz que expresa el rock con autenticidad\, Ferran Exceso se presenta en formato dúo con su nuevo proyecto más personal\, más directo\, y más certero que nunca. Sin aditivos\, sin artificios\, solo guitarra\, voz y verdad. \nPara arrancar\, EXTREMOBAND\, la banda tributo que lleva a otro nivel el homenaje a Extremoduro\, va a darlo todo en el escenario \n12:30H EXTREMOBAND \n14-15H FERRAN EXCESO \n🎵 Suena íntimo pero lleno de fuerza. Cercano pero afilado. Canción de autor con alma de rock.
URL:https://ticketere.com/evento/ferran-exceso-extremoband/
LOCATION:La Casa de la Mar\, Avd. Vicente Blasco Ibañez Novelista\, 8\, Alboraya\, València\, 46120\, Spain
CATEGORIES:Patacona Fest
ATTACH;FMTTYPE=image/jpeg:https://ticketere.com/wp-content/uploads/2025/07/IMG_7114-e1751958830674.jpeg
GEO:39.4907342;-0.3271149
X-APPLE-STRUCTURED-LOCATION;VALUE=URI;X-ADDRESS=La Casa de la Mar Avd. Vicente Blasco Ibañez Novelista 8 Alboraya València 46120 Spain;X-APPLE-RADIUS=500;X-TITLE=Avd. Vicente Blasco Ibañez Novelista\, 8:geo:-0.3271149,39.4907342
END:VEVENT
END:VCALENDAR