BEGIN:VCALENDAR
VERSION:2.0
PRODID:-//TickeTere - ECPv6.15.14//NONSGML v1.0//EN
CALSCALE:GREGORIAN
METHOD:PUBLISH
X-WR-CALNAME:TickeTere
X-ORIGINAL-URL:https://ticketere.com
X-WR-CALDESC:Eventos para TickeTere
REFRESH-INTERVAL;VALUE=DURATION:PT1H
X-Robots-Tag:noindex
X-PUBLISHED-TTL:PT1H
BEGIN:VTIMEZONE
TZID:Europe/Madrid
BEGIN:DAYLIGHT
TZOFFSETFROM:+0100
TZOFFSETTO:+0200
TZNAME:CEST
DTSTART:20240331T010000
END:DAYLIGHT
BEGIN:STANDARD
TZOFFSETFROM:+0200
TZOFFSETTO:+0100
TZNAME:CET
DTSTART:20241027T010000
END:STANDARD
BEGIN:DAYLIGHT
TZOFFSETFROM:+0100
TZOFFSETTO:+0200
TZNAME:CEST
DTSTART:20250330T010000
END:DAYLIGHT
BEGIN:STANDARD
TZOFFSETFROM:+0200
TZOFFSETTO:+0100
TZNAME:CET
DTSTART:20251026T010000
END:STANDARD
BEGIN:DAYLIGHT
TZOFFSETFROM:+0100
TZOFFSETTO:+0200
TZNAME:CEST
DTSTART:20260329T010000
END:DAYLIGHT
BEGIN:STANDARD
TZOFFSETFROM:+0200
TZOFFSETTO:+0100
TZNAME:CET
DTSTART:20261025T010000
END:STANDARD
BEGIN:DAYLIGHT
TZOFFSETFROM:+0100
TZOFFSETTO:+0200
TZNAME:CEST
DTSTART:20270328T010000
END:DAYLIGHT
BEGIN:STANDARD
TZOFFSETFROM:+0200
TZOFFSETTO:+0100
TZNAME:CET
DTSTART:20271031T010000
END:STANDARD
END:VTIMEZONE
BEGIN:VEVENT
DTSTART;TZID=Europe/Madrid:20260411T120000
DTEND;TZID=Europe/Madrid:20260411T120000
DTSTAMP:20260424T170546
CREATED:20260305T143658Z
LAST-MODIFIED:20260414T115650Z
UID:10003113-1775908800-1775908800@ticketere.com
SUMMARY:A QUEMARROPA: TRIBUTO A FITO Y FITIPALDIS
DESCRIPTION:Este THE VERMUTEO 🍷 el alma del rock callejero se cuela en La Casa de la Mar. \nLlega A QUEMARROPA\, una banda que no imita… revienta el escenario con un homenaje brutal a FITO & FITIPALDIS. \nPrepárate para cantar con una birra en la mano himnos como “Por la boca vive el pez”\, “Me equivocaría otra vez” o “Antes de que cuente diez”.Rock\, blues y ese sabor a bar con alma que solo Fito sabe sacar… un directo arrollador en el que repasarán los grandes éxitos de Fito & Fitipaldis. \nY RECUERDA 👉 HAPPY HOUR DE VERMUT: 2X1 DE 12 A 13 🍷 \n13:00h A QUEMARROPA: TRIBUTO A FITO Y FITIPALDIS
URL:https://ticketere.com/evento/a-quemarropa-tributo-a-fito-y-fitipaldis-2/
LOCATION:La Casa de la Mar\, Avd. Vicente Blasco Ibañez Novelista\, 8\, Alboraya\, València\, 46120\, Spain
ATTACH;FMTTYPE=image/jpeg:https://ticketere.com/wp-content/uploads/2025/04/WhatsApp-Image-2025-04-02-at-13.59.10-e1743595239343.jpeg
GEO:39.4907342;-0.3271149
X-APPLE-STRUCTURED-LOCATION;VALUE=URI;X-ADDRESS=La Casa de la Mar Avd. Vicente Blasco Ibañez Novelista 8 Alboraya València 46120 Spain;X-APPLE-RADIUS=500;X-TITLE=Avd. Vicente Blasco Ibañez Novelista\, 8:geo:-0.3271149,39.4907342
END:VEVENT
BEGIN:VEVENT
DTSTART;TZID=Europe/Madrid:20251023T200000
DTEND;TZID=Europe/Madrid:20251023T213000
DTSTAMP:20260424T170546
CREATED:20251016T083800Z
LAST-MODIFIED:20251023T065220Z
UID:10002857-1761249600-1761255000@ticketere.com
SUMMARY:PITER PARDO "LIÁNDOLA PARDO"
DESCRIPTION:Piter Pardo en La Casa de la Mar con «LIÁNDOLA PARDO» \nLlega al ciclo Un Mar de Monólogos uno de los artistas más versátiles de la escena valenciana: Piter Pardo.Un show cargado de humor\, donde recuerda con mucha gracia cómo han cambiado las cosas de antes a ahora. \nMonólogos\, magia cómica\, improvisación y participación del público se mezclan en un espectáculo lleno de risas\, carcajadas y buen rollo.\nPrepárate para una noche divertida\, sorprendente y\, sobre todo… ¡para liarla con Pardo! \nCon más de una década girando por teatros y escenarios de todo el país\, su estilo combina música en directo\, sátira y energía desbordante\, haciendo que cada show sea una experiencia única.No hay guion que lo limite\, ni público que se resista. \n👉 Solo tienes que registrarte en Ticketere y conseguir tu entrada a coste 0.🎟️ Así de fácil\, y con tu sitio asegurado para una noche de risas sin complicaciones. \n💥 Piter Pardo: el único capaz de hacerte reír y cantar al mismo tiempo.
URL:https://ticketere.com/evento/piter-pardo/
LOCATION:La Casa de la Mar\, Avd. Vicente Blasco Ibañez Novelista\, 8\, Alboraya\, València\, 46120\, Spain
ATTACH;FMTTYPE=image/jpeg:https://ticketere.com/wp-content/uploads/2025/10/WhatsApp-Image-2025-10-16-at-13.14.20-e1760622282493.jpeg
GEO:39.4907342;-0.3271149
X-APPLE-STRUCTURED-LOCATION;VALUE=URI;X-ADDRESS=La Casa de la Mar Avd. Vicente Blasco Ibañez Novelista 8 Alboraya València 46120 Spain;X-APPLE-RADIUS=500;X-TITLE=Avd. Vicente Blasco Ibañez Novelista\, 8:geo:-0.3271149,39.4907342
END:VEVENT
BEGIN:VEVENT
DTSTART;TZID=Europe/Madrid:20250524T120000
DTEND;TZID=Europe/Madrid:20250524T120000
DTSTAMP:20260424T170546
CREATED:20250402T114825Z
LAST-MODIFIED:20250526T074004Z
UID:10002490-1748088000-1748088000@ticketere.com
SUMMARY:A QUEMARROPA: TRIBUTO A FITO Y FITIPALDIS
DESCRIPTION:Este THE VERMUTEO 🍷 el alma del rock callejero se cuela en La Casa de la Mar. \nLlega A QUEMARROPA\, una banda que no imita… revienta el escenario con un homenaje brutal a FITO & FITIPALDIS. \nPrepárate para cantar con una birra en la mano himnos como “Por la boca vive el pez”\, “Me equivocaría otra vez” o “Antes de que cuente diez”.Rock\, blues y ese sabor a bar con alma que solo Fito sabe sacar… un directo arrollador en el que repasarán los grandes éxitos de Fito & Fitipaldis. \nY RECUERDA 👉 HAPPY HOUR DE VERMUT: 2X1 DE 12 A 13 🍷 \n13:00h A QUEMARROPA: TRIBUTO A FITO Y FITIPALDIS
URL:https://ticketere.com/evento/a-quemarropa-tributo-a-fito-y-fitipaldis/
LOCATION:La Casa de la Mar\, Avd. Vicente Blasco Ibañez Novelista\, 8\, Alboraya\, València\, 46120\, Spain
ATTACH;FMTTYPE=image/jpeg:https://ticketere.com/wp-content/uploads/2025/04/WhatsApp-Image-2025-04-02-at-13.59.10-e1743595239343.jpeg
GEO:39.4907342;-0.3271149
X-APPLE-STRUCTURED-LOCATION;VALUE=URI;X-ADDRESS=La Casa de la Mar Avd. Vicente Blasco Ibañez Novelista 8 Alboraya València 46120 Spain;X-APPLE-RADIUS=500;X-TITLE=Avd. Vicente Blasco Ibañez Novelista\, 8:geo:-0.3271149,39.4907342
END:VEVENT
END:VCALENDAR