BEGIN:VCALENDAR
VERSION:2.0
PRODID:-//TickeTere - ECPv6.15.14//NONSGML v1.0//EN
CALSCALE:GREGORIAN
METHOD:PUBLISH
X-ORIGINAL-URL:https://ticketere.com
X-WR-CALDESC:Eventos para TickeTere
REFRESH-INTERVAL;VALUE=DURATION:PT1H
X-Robots-Tag:noindex
X-PUBLISHED-TTL:PT1H
BEGIN:VTIMEZONE
TZID:Europe/Madrid
BEGIN:DAYLIGHT
TZOFFSETFROM:+0100
TZOFFSETTO:+0200
TZNAME:CEST
DTSTART:20240331T010000
END:DAYLIGHT
BEGIN:STANDARD
TZOFFSETFROM:+0200
TZOFFSETTO:+0100
TZNAME:CET
DTSTART:20241027T010000
END:STANDARD
BEGIN:DAYLIGHT
TZOFFSETFROM:+0100
TZOFFSETTO:+0200
TZNAME:CEST
DTSTART:20250330T010000
END:DAYLIGHT
BEGIN:STANDARD
TZOFFSETFROM:+0200
TZOFFSETTO:+0100
TZNAME:CET
DTSTART:20251026T010000
END:STANDARD
BEGIN:DAYLIGHT
TZOFFSETFROM:+0100
TZOFFSETTO:+0200
TZNAME:CEST
DTSTART:20260329T010000
END:DAYLIGHT
BEGIN:STANDARD
TZOFFSETFROM:+0200
TZOFFSETTO:+0100
TZNAME:CET
DTSTART:20261025T010000
END:STANDARD
END:VTIMEZONE
BEGIN:VEVENT
DTSTART;TZID=Europe/Madrid:20250822T230000
DTEND;TZID=Europe/Madrid:20250822T230000
DTSTAMP:20260422T123131
CREATED:20250701T123032Z
LAST-MODIFIED:20250825T081250Z
UID:10002682-1755903600-1755903600@ticketere.com
SUMMARY:DEMARCO FLAMENCO + RAUL CAMACHO
DESCRIPTION:DeMarco Flamenco + Raúl Camacho en Huelma 🎶🔥 \nTienes cita este verano en el Parque de la Juventud de Huelma\, prepárate para una noche de contrastes que engancha: DeMarco Flamenco trae su fusión de flamenco moderno\, y se une a Raúl Camacho\, el cantautor jiennense de sensibilidad pop y confesiones intensas.Es una colaboración que prometer ser de lo más sorprendente. \n🎙️ DeMarco Flamenco rompe esquemas con su mezcla de raíces flamencas y producción contemporánea: guitarra clásica\, cajas de ritmo y voluntad de sorprender. \n🎸 Raúl Camacho\, natural de Bailén y artista revelación 2024\, trae su último disco Origen: baladas íntimas como “Dame la luz”\, confesiones maduras y emoción a flor de piel en cada nota. \nCanciones que duelen bonito\, que se bailan lento o se gritan fuerte.
URL:https://ticketere.com/evento/de-marco-flamenco-raul-camacho/
LOCATION:PARQUE DE LA JUVENTUD\, C. Historiador Tomas Quesada\, 48\, Huelma\, 23560
CATEGORIES:Conciertos
ATTACH;FMTTYPE=image/jpeg:https://ticketere.com/wp-content/uploads/2025/07/image0-3-e1751373845522.jpeg
GEO:37.6443117;-3.4528914
X-APPLE-STRUCTURED-LOCATION;VALUE=URI;X-ADDRESS=PARQUE DE LA JUVENTUD C. Historiador Tomas Quesada 48 Huelma 23560;X-APPLE-RADIUS=500;X-TITLE=C. Historiador Tomas Quesada\, 48:geo:-3.4528914,37.6443117
END:VEVENT
END:VCALENDAR